BEGIN:VCALENDAR
VERSION:2.0
PRODID:-//Świdnicki Ośrodek Kultury - ECPv5.5.0.1//NONSGML v1.0//EN
CALSCALE:GREGORIAN
METHOD:PUBLISH
X-WR-CALNAME:Świdnicki Ośrodek Kultury
X-ORIGINAL-URL:https://sok.com.pl
X-WR-CALDESC:Wydarzenia na Świdnicki Ośrodek Kultury
BEGIN:VTIMEZONE
TZID:Europe/Warsaw
BEGIN:DAYLIGHT
TZOFFSETFROM:+0100
TZOFFSETTO:+0200
TZNAME:CEST
DTSTART:20250330T010000
END:DAYLIGHT
BEGIN:STANDARD
TZOFFSETFROM:+0200
TZOFFSETTO:+0100
TZNAME:CET
DTSTART:20251026T010000
END:STANDARD
END:VTIMEZONE
BEGIN:VEVENT
DTSTART;TZID=Europe/Warsaw:20250819T180000
DTEND;TZID=Europe/Warsaw:20250819T190000
DTSTAMP:20260424T112721
CREATED:20250811T095600Z
LAST-MODIFIED:20250811T095656Z
UID:41302-1755626400-1755630000@sok.com.pl
SUMMARY:GRAŻYNA MUSIAŁOWSKA: SPOTKANIE AUTORSKIE I WERNISAŻ WYSTAWY PRAC
DESCRIPTION:19 sierpnia w Galerii Fotografii ŚOK odbędzie się wernisaż wystawy prac Grażyny Musiałowskiej połączony ze spotkaniem autorskim\, serdecznie Państwa zapraszamy! \nTeatr Życia!\nRysunki i prace artystyczne\nprzypominają\, że nasze życie to Teatr…\nna deskach naszego istnienia.\nMamy swój czas i jak odegramy nasze\nrole\, zależy tylko od nas!\nW jaką rolę się wcielimy.\nCzy dobrego bohatera\,\nczy złą postać to nasz wybór!\nPamiętajmy\, że każda sztuka\nma początek i koniec.\nDobrego spektaklu kochani! \n— Grażyna Musiałowska
URL:https://sok.com.pl/wydarzenie/grazyna-musialowska-spotkanie-autorskie-i-wernisaz-wystawy-prac/
LOCATION:Galeria Fotografii\, Rynek 44\, Świdnica\, Dolnośląskie\, 58-100\, Polska
CATEGORIES:Wystawa
ATTACH;FMTTYPE=image/jpeg:https://sok.com.pl/wp-content/uploads/2025/08/B2_Grazyna_Musialowska.jpg
ORGANIZER;CN="%C5%9Awidnicki%20O%C5%9Brodek%20Kultury":MAILTO:sok@sok.com.pl
END:VEVENT
END:VCALENDAR