BEGIN:VCALENDAR
VERSION:2.0
PRODID:-//Świdnicki Ośrodek Kultury - ECPv5.5.0.1//NONSGML v1.0//EN
CALSCALE:GREGORIAN
METHOD:PUBLISH
X-WR-CALNAME:Świdnicki Ośrodek Kultury
X-ORIGINAL-URL:https://sok.com.pl
X-WR-CALDESC:Wydarzenia na Świdnicki Ośrodek Kultury
BEGIN:VTIMEZONE
TZID:Europe/Warsaw
BEGIN:DAYLIGHT
TZOFFSETFROM:+0100
TZOFFSETTO:+0200
TZNAME:CEST
DTSTART:20230326T010000
END:DAYLIGHT
BEGIN:STANDARD
TZOFFSETFROM:+0200
TZOFFSETTO:+0100
TZNAME:CET
DTSTART:20231029T010000
END:STANDARD
END:VTIMEZONE
BEGIN:VEVENT
DTSTART;TZID=Europe/Warsaw:20230415T110000
DTEND;TZID=Europe/Warsaw:20230415T120000
DTSTAMP:20260422T065501
CREATED:20230307T141646Z
LAST-MODIFIED:20230307T142125Z
UID:33774-1681556400-1681560000@sok.com.pl
SUMMARY:FILONEK BEZOGONEK [kino familijne]
DESCRIPTION:KUP BILET \nbilety: 15/10 zł (dorośli/dzieci) \nKiedy w domu Birgitty pojawia się kotek – Filonek\, dziewczynka nie posiada się z radości. Jednak Filonek\, jak każdy kot\, chodzi własnymi ścieżkami i pewnego dnia gubi się w lesie. Niebezpieczna wędrówka prowadzi go do wielkiego miasta\, gdzie poznaje całą zgraję kolorowych postaci. Może znajdzie się ktoś\, kto wskaże mu drogę do domu? \n\nreżyseria: Christian Ryltenius\nkraj produkcji: Szwecja 2020\nkategoria wiekowa: 4+\nwersja językowa: polski dubbing\nczas trwania: 67′\ngatunek: animacja\, familijny
URL:https://sok.com.pl/wydarzenie/filonek-bezogonek-kino-familijne/
LOCATION:Świdnicki Ośrodek Kultury\, Rynek 43\, Świdnica\, Dolnośląskie\, 58-100\, Polska
CATEGORIES:Film
ATTACH;FMTTYPE=image/jpeg:https://sok.com.pl/wp-content/uploads/2023/03/B2_Filemonek_bezogonek.jpg
ORGANIZER;CN="%C5%9Awidnicki%20O%C5%9Brodek%20Kultury":MAILTO:sok@sok.com.pl
END:VEVENT
END:VCALENDAR