BEGIN:VCALENDAR
VERSION:2.0
PRODID:-//Świdnicki Ośrodek Kultury - ECPv5.5.0.1//NONSGML v1.0//EN
CALSCALE:GREGORIAN
METHOD:PUBLISH
X-WR-CALNAME:Świdnicki Ośrodek Kultury
X-ORIGINAL-URL:https://sok.com.pl
X-WR-CALDESC:Wydarzenia na Świdnicki Ośrodek Kultury
BEGIN:VTIMEZONE
TZID:Europe/Warsaw
BEGIN:DAYLIGHT
TZOFFSETFROM:+0100
TZOFFSETTO:+0200
TZNAME:CEST
DTSTART:20230326T010000
END:DAYLIGHT
BEGIN:STANDARD
TZOFFSETFROM:+0200
TZOFFSETTO:+0100
TZNAME:CET
DTSTART:20231029T010000
END:STANDARD
END:VTIMEZONE
BEGIN:VEVENT
DTSTART;VALUE=DATE:20230812
DTEND;VALUE=DATE:20230816
DTSTAMP:20260421T050531
CREATED:20230602T114632Z
LAST-MODIFIED:20230607T134604Z
UID:34246-1691798400-1692143999@sok.com.pl
SUMMARY:FESTIWAL MIEJSKIEGO SZKICOWANIA / URBAN SKETCHING FESTIVAL
DESCRIPTION:KUP BILET \nPo raz kolejny zapraszamy Urban Sketcherów do Świdnicy! Drugi Festiwal Miejskiego Szkicowania odbędzie się w dniach 12-15 sierpnia 2023 i dołożymy wszelkich starań\, aby był równie dobry – albo lepszy – niż rok temu. Tym razem planujemy jeszcze więcej różnych warsztatów do wyboru\, prowadzonych przez polskich i zagranicznych instruktorów. Będą też oczywiście spacery ze szkicownikiem\, prelekcje\, wystawy\, różne konkursy\, goodiesy oraz stoiska z materiałami plastycznymi. A wszystko to w pięknym otoczeniu świdnickich zabytków i w przyjaznej\, twórczej atmosferze stworzonej przez Was – uczestników. Nasz festiwal to nie tylko szkicowanie\, ale także okazja do spotkań i wymiany doświadczeń oraz wiedzy. Dołączcie do nas i poznajcie międzynarodową społeczność Urban Sketchers. \nZachęcamy do obserwowania festiwalowej strony na Facebooku (@urbansketchingfestival) oraz naszego profilu na Instagramie (@uskpoland)\, gdzie będą pojawiać się aktualności związane z wydarzeniem w Świdnicy. Zapraszamy również do naszej grupy Urban Sketchers Poland na Facebooku\, gdzie na co dzień dzielimy się wykonanymi w terenie szkicami. \nwww.uskpoland.pl \n*** \nOnce again\, we invite Urban Sketchers to Świdnica! The second Urban Sketching Festival will take place on August 12-15\, 2023 and we will do our best to make it as good – or better – than last year. This time we are planning even more different workshops to choose from\, conducted by Polish and foreign instructors. There will also be sketch-walks\, lectures\, exhibitions\, various competitions\, goodies and stands with art materials. And all this in the beautiful surroundings of the historic Świdnica city and in a friendly\, creative atmosphere created by you – the participants. Our festival is not only about sketching\, but it is also an opportunity to meet and exchange experiences and knowledge. Join us and meet the international community of Urban Sketchers. We encourage you to follow the festival’s Facebook page (@urbansketchingfestival) and our Instagram profile (@uskpoland)\, where news related to the event in Świdnica will appear. Registration for the festival and workshops will start in June. We also invite you to our group Urban Sketchers Poland on Facebook\, where we share sketches made on location on a daily basis. \nwww.uskpoland.pl \n 
URL:https://sok.com.pl/wydarzenie/festiwal-miejskiego-szkicowania-urban-sketching-festival/
CATEGORIES:Warsztaty
ATTACH;FMTTYPE=image/png:https://sok.com.pl/wp-content/uploads/2023/06/B2_US_Fest_2023.png
END:VEVENT
END:VCALENDAR