BEGIN:VCALENDAR
VERSION:2.0
PRODID:-//Świdnicki Ośrodek Kultury - ECPv5.5.0.1//NONSGML v1.0//EN
CALSCALE:GREGORIAN
METHOD:PUBLISH
X-WR-CALNAME:Świdnicki Ośrodek Kultury
X-ORIGINAL-URL:https://sok.com.pl
X-WR-CALDESC:Wydarzenia na Świdnicki Ośrodek Kultury
BEGIN:VTIMEZONE
TZID:Europe/Warsaw
BEGIN:DAYLIGHT
TZOFFSETFROM:+0100
TZOFFSETTO:+0200
TZNAME:CEST
DTSTART:20230326T010000
END:DAYLIGHT
BEGIN:STANDARD
TZOFFSETFROM:+0200
TZOFFSETTO:+0100
TZNAME:CET
DTSTART:20231029T010000
END:STANDARD
END:VTIMEZONE
BEGIN:VEVENT
DTSTART;TZID=Europe/Warsaw:20230814T160000
DTEND;TZID=Europe/Warsaw:20230814T183000
DTSTAMP:20260421T065454
CREATED:20230605T103410Z
LAST-MODIFIED:20230607T075348Z
UID:34277-1692028800-1692037800@sok.com.pl
SUMMARY:FESTIWAL MIEJSKIEGO SZKICOWANIA: OKSANA MACKOWICZ [warsztaty]
DESCRIPTION:KUP BILET \n14 sierpnia\, 16:00-18:30\, przy Katedrze\n“Fokus przy malowaniu szkiców” / “Focal point in sketching” \nMax. ilość uczestników: 10 \nWarsztaty w języku polskim \nOKSANA MACKOWICZ – OPIS PL \nO prowadzącym\nOksana Mackowicz – artystka ukraińskiego pochodzenia\, pracująca w zawodzie architekta\, co sprawia\, że architektura jest jednym z jej ulubionych tematów do szkicowania. Każde miasto żyje\, ma swój rytm i swoje bicie serca\, a Oksana stara się to pokazać w swoich pracach. Używa przeważnie techniki graficznych: tuszu\, ołówka i markerów\, ale lubi też akwarele. Spotkania grupy Urban Sketchers są dla niej bardzo ważne\, bo poznaje tam  przyjaznych ludzi z pasją\, co jest bardzo inspirujące i daje ogromny impuls dla rozwoju. \nSocial media\nInstagram: oksanamatskovich\n \nO warsztacie \n“Fokus przy malowaniu szkiców”\nCzy kiedy rozpoczynasz nowy szkic\, zadajesz sobie takie pytania:\nCo mam narysować?\nNa czym warto skupić uwagę?\nCo pominąć?\nNa tych warsztatach postaramy się znaleźć odpowiedzi. Będziemy omawiać od czego zacząć pracę. Jak można\, zmieniając punkt skupienia na różnych warstwach\, stworzyć kompletnie różnorodne szkice. Będziemy uczyć się tego\, jak patrzeć na to co rysujemy\, żeby widzieć najważniejsze. \nMateriały \n\npapier\nołówek\ncienkopis\ngrubszy pisak\n\nOKSANA MACKOWICZ – OPIS ANG \nAbout the teacher\nOksana Mackowicz – an artist of Ukrainian origin\, working as an architect\, which makes architecture one of her favorite topics for sketching. Each city is alive\, has its own rhythm and heartbeat\, and Oksana tries to show this in her works. He mostly uses graphic techniques: ink\, pencil and markers\, but he also likes watercolors. Meetings of the Urban Sketchers group are very important to her\, because there she meets friendly people with passion\, which is very inspiring and gives a huge impulse for development. \nSocial media\nInstagram: oksanamatskovich \nAbout the workshop \n “Focal point in sketching” \nWhen you start a new sketch\, do you ask yourself these questions: \nWhat should I draw? \nWhat is worth focusing on? \nWhat to leave out? \nIn this workshop we will try to find answers. We will discuss where to start working and how you can create completely different sketches by changing the focus on different layers. We will learn how to look at what we draw to see the most important things. \nMaterials \n\npaper\npencil\nfineliner\nmarker
URL:https://sok.com.pl/wydarzenie/festiwal-miejskiego-szkicowania-oksana-mackowicz-warsztaty/
LOCATION:przy Katedrze\, plac Jana Pawła II\, Świdnica\, 58-100\, Poland
CATEGORIES:Warsztaty
ATTACH;FMTTYPE=image/png:https://sok.com.pl/wp-content/uploads/2023/06/Oksana_warsztaty.png
END:VEVENT
END:VCALENDAR