BEGIN:VCALENDAR
VERSION:2.0
PRODID:-//Świdnicki Ośrodek Kultury - ECPv5.5.0.1//NONSGML v1.0//EN
CALSCALE:GREGORIAN
METHOD:PUBLISH
X-WR-CALNAME:Świdnicki Ośrodek Kultury
X-ORIGINAL-URL:https://sok.com.pl
X-WR-CALDESC:Wydarzenia na Świdnicki Ośrodek Kultury
BEGIN:VTIMEZONE
TZID:Europe/Warsaw
BEGIN:DAYLIGHT
TZOFFSETFROM:+0100
TZOFFSETTO:+0200
TZNAME:CEST
DTSTART:20230326T010000
END:DAYLIGHT
BEGIN:STANDARD
TZOFFSETFROM:+0200
TZOFFSETTO:+0100
TZNAME:CET
DTSTART:20231029T010000
END:STANDARD
END:VTIMEZONE
BEGIN:VEVENT
DTSTART;TZID=Europe/Warsaw:20230814T103000
DTEND;TZID=Europe/Warsaw:20230814T130000
DTSTAMP:20260421T111412
CREATED:20230605T102025Z
LAST-MODIFIED:20230607T075119Z
UID:34267-1692009000-1692018000@sok.com.pl
SUMMARY:FESTIWAL MIEJSKIEGO SZKICOWANIA: KATARZYNA WIERCIŃSKA [warsztaty]
DESCRIPTION:KUP BILET \n14 sierpnia\, 10:30-13:00\, przy Kościele Pokoju\n“Uchwycenie architektury akwarelą – jak radzić sobie ze skomplikowanymi tematami w krótkim czasie” / “Capturing architecture with watercolour – how to deal with complex subjects in a short time” \nMax. ilość uczestników: 10 \nWarsztaty w języku polskim \nKATARZYNA WIERCIŃSKA – OPIS PL \nO prowadzącym\nKasia Wiercinska \nJestem akwarelistką pochodzącą z Polski\, obecnie mieszkającą w Oslo w Norwegii. Moim zawodem jest architektura\, jednak postanowiłam podążać za marzeniami i zostać artystką. \nPrzez całe życie interesowałam się wieloma dziedzinami twórczości – od malarstwa i rzeźby po projektowanie architektoniczne. Od najmłodszych lat maluję akwarelą jako samouk. Jednak moja nowa artystyczna podróż rozpoczęła się w Christchurch w Nowej Zelandii\, gdzie w latach 2019-2020 przeszłam profesjonalne szkolenie z akwareli. \nPodróże są moją główną inspiracją. Zawsze staram się uchwycić piękno i atmosferę otaczającego krajobrazu\, gdziekolwiek się udam. Dla mnie sztuka to świetny sposób na obcowanie z lokalnym krajobrazem\, obserwowanie codziennych czynności i odczuwanie otaczającej nas energii. Malując staram się opowiedzieć historię miejsca dokładnie tak\, jak chcę je zapamiętać\, a więc nie zawsze dokładnie tak\, jak ono wygląda. Moimi ulubionymi tematami są pejzaże miejskie i morskie\, zwłaszcza z łodziami lub falami. \nBardzo lubię dzielić się swoją pasją z innymi. Nauczanie akwareli to świetny sposób\, aby to zrobić. Obecnie udzielam prywatnych korepetycji w Oslo\, jak również online. Prowadzę regularne zajęcia dla artystów na każdym poziomie – zarówno początkującym jak i zaawansowanym. \nSocial media\nInstagram: kasia_wiercinska \n  \nO warsztacie\n“Uchwycenie architektury akwarelą – jak radzić sobie ze skomplikowanymi tematami w krótkim czasie.”\nPodczas warsztatów przećwiczymy tworzenie szkiców architektonicznych przy użyciu akwareli. Głównym tematem będzie tworzenie kompozycji z uchwyceniem dominanty\, uproszczenie skomplikowanych widoków oraz dobór spójnej kolorystyki. Przedstawię również najważniejsze aspekty malarstwa akwarelą oraz podzielę się techniką pracy z odpowiednią ilością wody\, gęstością farby i budowania poczucia przestrzeni w obrazie. Po krótkim wstępie namalujemy jeden obraz w plenerze\, a proces malowania przedstawię krok po kroku wykonując obraz pokazowy.\nWarsztaty są skierowane zarówno dla początkujących jak i zaawansowanych osób w wieku dorosłym 18+. \nMateriały \n\nfarby akwarelowe (kolory: cadmium yellow\, burnt sienna\, violet\, hookers green albo yellow green\, cerulean blue albo manganese blue)\npaleta do mieszania farb lub talerz\npapier akwarelowy 300g format od a4 do a3\nkilka stron ze szkicownika\nołówek\ndeska do podklejenia papieru\ntaśma malarska do podklejenia papieru\npędzel + woda\n\nKATARZYNA WIERCIŃSKA – OPIS ANG \nAbout the teacher\nKatarzyna Wiercinska \nKATARZYNA WIERCIŃSKA – OPIS ANGI am a watercolour artist\, originally from Poland\, currently living in Oslo\, Norway. My profession is architecture\, however\, I decided to follow my dreams and become an artist. \nThroughout my life\, I was interested in many creative fields from painting and sculpture to architectural design. I have been using watercolour as a self-taught artist from an early age. However\, my new art journey started in Christchurch\, New Zealand where I received professional watercolour training in 2019-2020.\nTravels and journeys are my main inspiration. I always try to capture the beauty and the atmosphere of the surrounding landscape wherever I go. For me\, art is a great way to connect with the local landscape\, observe activities of everyday life and feel the energy around us. When painting\, I try to tell a story about a place\, exactly as I want to remember it\, so not always exactly what it looks like. My favourite subjects are cityscape and seascape\, especially with boats or waves. \nI really enjoy sharing my passion with others. Teaching watercolour is a great way to do that. Currently\, I give private tutoring in Oslo\, as well as online. I run regular classes for artists at any level – both beginners and advanced. \nSocial media\nInstagram:  kasia_wiercinska \nAbout the workshop \n“Capturing architecture with watercolour – how to deal with complex subjects in a short time”\nDuring the workshop we will practice creating architectural sketches using watercolors. The main topic will be the creation of compositions that capture the dominant\, simplification of complex views and the selection of consistent colors. I will also present the most important aspects of watercolor painting and share the technique of working with the right amount of water\, paint density and building a sense of space in the image. After a short introduction\, we will paint one painting in the open air\, and I will present the painting process step by step by making a demonstration painting. \nThe workshops are aimed at both beginners and advanced adults aged 18+. \nMaterials \n\nwatercolor paints (colors: cadmium yellow\, burnt sienna\, violet\, hookers green or yellow green\, cerulean blue or manganese blue)\npaint mixing palette or plate\nwatercolor paper 300g format from A4 to A3\na few pages from the sketchbook\npencil\nboard for sticking paper\nmasking tape for sticking paper\nbrush + water
URL:https://sok.com.pl/wydarzenie/festiwal-miejskiego-szkicowania-katarzyna-wiercinska-warsztaty/
LOCATION:Kościół Pokoju w Świdnicy\, plac Pokoju 6\, Świdnica\, Dolnośląskie\, 58-100\, Polska
CATEGORIES:Warsztaty
ATTACH;FMTTYPE=image/png:https://sok.com.pl/wp-content/uploads/2023/06/Katarzyna_warsztaty.png
END:VEVENT
END:VCALENDAR