BEGIN:VCALENDAR
VERSION:2.0
PRODID:-//Świdnicki Ośrodek Kultury - ECPv5.5.0.1//NONSGML v1.0//EN
CALSCALE:GREGORIAN
METHOD:PUBLISH
X-WR-CALNAME:Świdnicki Ośrodek Kultury
X-ORIGINAL-URL:https://sok.com.pl
X-WR-CALDESC:Wydarzenia na Świdnicki Ośrodek Kultury
BEGIN:VTIMEZONE
TZID:Europe/Warsaw
BEGIN:DAYLIGHT
TZOFFSETFROM:+0100
TZOFFSETTO:+0200
TZNAME:CEST
DTSTART:20230326T010000
END:DAYLIGHT
BEGIN:STANDARD
TZOFFSETFROM:+0200
TZOFFSETTO:+0100
TZNAME:CET
DTSTART:20231029T010000
END:STANDARD
END:VTIMEZONE
BEGIN:VEVENT
DTSTART;TZID=Europe/Warsaw:20230815T100000
DTEND;TZID=Europe/Warsaw:20230815T130000
DTSTAMP:20260421T050622
CREATED:20230605T103934Z
LAST-MODIFIED:20230607T075455Z
UID:34280-1692093600-1692104400@sok.com.pl
SUMMARY:FESTIWAL MIEJSKIEGO SZKICOWANIA: IWONA FLASZCZYŃSKA [warsztaty]
DESCRIPTION:KUP BILET \n15 sierpnia\, 10:00-13:00\, przy Katedrze\n“Trochę perspektywy zbieżnej i powietrznej – jak światło wpływa na kolor” / “Linear and aerial perspective – how light affects colour”  \nMax. ilość uczestników: 20 \nWarsztaty w języku polskim \nIWONA FLASZCZYŃSKA – OPIS PL \nO prowadzącym \nIwona Flaszczyńska ukończyła ASP w Warszawie\, wydział Konserwacji Dzieł Sztuki\, specjalność Malarstwo i Rzeźba polichromowana. Otrzymała stypendium do Meksyku\, gdzie ostatecznie mieszkała 4 lata\, pracując przy ważnych projektach w konserwacji. \nOd 1990 roku mieszka w Hiszpanii\, gdzie zajmuje się nauczaniem i twórczością własną. \nPodróżowała wiele\, głównie po krajach Ameryki Łacińskiej\, biorąc udział w projektach organizacji pozarządowych\, co pozwoliło poznać bliżej ludzi\, kulturę i tradycje które stały się źródłem inspiracji dla jej twórczości. \nMa na swoim koncie wiele wystaw indywidualnych i zbiorowych w Meksyku i Hiszpanii. \nOd 2010 roku bierze aktywny udział w ruchu Urban Sketchers Barcelona. \nUwielbia podróże\, poznawanie innych kultur\, góry i górskie marsze\, plaże poza sezonem i im mniej zaludnione\, tym lepiej\, dobre muzea i wystawy\, a przede wszystkim… rysowanie\, które nieprzerwanie wyzwala w niej wielkie emocje! \nSocial media\nInstagram: iwonaflaszczynska\n \nO warsztacie: \n“Trochę perspektywy zbieżnej i powietrznej – jak światło wpływa na kolor”\nWarsztaty rozpoczniemy od szybkiego szkicu w czerni i bieli\, obserwując skalę waloru\, za pomocą plam światła i cienia. Rysunek będzie bardzo szybki\, schematyczny\, ważności nabiera tutaj natężenie światła. Zrobimy próbki szarości na boku papieru. Na to przeznaczymy do 0\,5 godz.\nNarysujemy katedrę z uwzględnieniem perspektywy powietrznej i zbieżnej z trzema punktami zbiegu. Poszukamy kolorów kamienia oraz tego jak światło i cień modyfikują te kolory. \nMateriały \n\nołówek HB albo B\ngumka\, temperówka\npióro lub cienkopis: UNIPIN\, MICRON\, Staedtler lub Faber-Castell\, 3 grubości: 02\, 05\, 07\nołówek Pitt Oil marki Faber-Castell\, medium albo soft\n2 klipsy do przytrzymania kartek\nszkicownik lub blok\, wymiary wedle uznania: A4\, A3 lub kwadratowy. Ponieważ będziemy pracować z akwarelą\, dobrze byłoby\, żeby papier miał min. 250 gsm.\nzestaw akwareli – może być 12 kolorów. Ważne żeby zawierało burnt sienna\, błękit kobaltowy i szarość Payne’a\npędzle do akwareli\, miękkie\, mogą być syntetyczne\, ale najlepsze są z włosia naturalnego\, petit gris albo imitacja sobolowego\, 4\, 5 różnych rozmiarów\nopcjonalnie\, jako dodatek do akwareli\, kredki Polychromos marki Faber-Castell\nnaczynie z wodą\nwsiąkliwy papier lub ściereczka do suszenia pędzli (bardzo ważne!)\nkrzesełko turystyczne lub mata do siedzenia\n\nIWONA FLASZCZYŃSKA – OPIS ANG \nAbout the teacher \nIwona Flaszczyńska graduated from the Academy of Fine Arts in Warsaw\, the Faculty of Conservation of Works of Art\, specializing in Painting and Polychrome Sculpture. She received a scholarship to Mexico\, where she eventually lived for 4 years\, working on important conservation projects. \nSince 1990\, he has been living in Spain\, where he teaches and creates his own work. \nShe traveled a lot\, mainly in Latin American countries\, taking part in projects of non-governmental organizations\, which allowed her to get to know the people\, culture and traditions that became a source of inspiration for her work. \nHe has had many solo and group exhibitions in Mexico and Spain. \nSince 2010\, he has been actively involved in the Urban Sketchers Barcelona movement. \nShe loves traveling\, getting to know other cultures\, mountains and hiking\, beaches out of season and the less populated the better\, good museums and exhibitions\, and above all… drawing\, which constantly evokes great emotions in her! \nSocial media\nInstagram: iwonaflaszczynska \nAbout the workshop \n“Linear and aerial perspective – how light affects colour”  \nWe will start the workshop with a quick sketch in black and white\, observing the scale of the value\, using patches of light and shadow. The drawing will be very fast\, schematic\, the intensity of light becoming important here. We will make gray swatches on the side of the paper. We will spend up to 0.5 hours on this. \nWe will draw the cathedral taking into account the aerial and linear perspective with three vanishing points. We will look for the colors of the stone and how light and shadow modify these colors. \nMaterials \n\nHB or B pencil\neraser\, sharpener\nPen or fineliner: UNIPIN\, MICRON\, Staedtler or Faber-Castell\, 3 thicknesses: 02\, 05\, 07\nFaber-Castell Pitt Oil pencil\, medium or soft\n2 paper clips\na sketchbook or a pad\, dimensions as desired\, A4\, A3 or square. Since we will be working with watercolor\, it would be good if the paper had min. 250gsm\nwatercolor set – 12 colors is enough. It is important that it contains burnt sienna\, cobalt blue and Payne’s gray\nwatercolor brushes\, soft\, can be synthetic\, but the best are natural bristle\, petit gris or sable imitation\, 4\, 5 different sizes\noptionally\, as an addition to watercolors\, Faber-Castell Polychromos pencils\ncontainer with water\nabsorbent paper or cloth for drying brushes (very important!)\na tourist chair or a seat mat
URL:https://sok.com.pl/wydarzenie/festiwal-miejskiego-szkicowania-iwona-flaszczynska-warsztaty/
LOCATION:przy Katedrze\, plac Jana Pawła II\, Świdnica\, 58-100\, Poland
CATEGORIES:Warsztaty
ATTACH;FMTTYPE=image/png:https://sok.com.pl/wp-content/uploads/2023/06/Iwona_warsztaty.png
END:VEVENT
END:VCALENDAR