BEGIN:VCALENDAR
VERSION:2.0
PRODID:-//Świdnicki Ośrodek Kultury - ECPv5.5.0.1//NONSGML v1.0//EN
CALSCALE:GREGORIAN
METHOD:PUBLISH
X-WR-CALNAME:Świdnicki Ośrodek Kultury
X-ORIGINAL-URL:https://sok.com.pl
X-WR-CALDESC:Wydarzenia na Świdnicki Ośrodek Kultury
BEGIN:VTIMEZONE
TZID:Europe/Warsaw
BEGIN:DAYLIGHT
TZOFFSETFROM:+0100
TZOFFSETTO:+0200
TZNAME:CEST
DTSTART:20230326T010000
END:DAYLIGHT
BEGIN:STANDARD
TZOFFSETFROM:+0200
TZOFFSETTO:+0100
TZNAME:CET
DTSTART:20231029T010000
END:STANDARD
END:VTIMEZONE
BEGIN:VEVENT
DTSTART;TZID=Europe/Warsaw:20230812T140000
DTEND;TZID=Europe/Warsaw:20230812T170000
DTSTAMP:20260421T070721
CREATED:20230602T115420Z
LAST-MODIFIED:20230607T074434Z
UID:34249-1691848800-1691859600@sok.com.pl
SUMMARY:FESTIWAL MIEJSKIEGO SZKICOWANIA: BETTINA RUPPERT [warsztaty]
DESCRIPTION:KUP BILET \n12 sierpnia\, 14:15-17:15\, Muzeum Dawnego Kupiectwa\n“Jak szkicować przekonujące wnętrza” / “Learn how to sketch convincing roomportraits” \nWarsztaty w języku angielskim \nBETTINA RUPPERT – OPIS PL \nO prowadzącym \nBettina Ruppert jest niemiecką artystką współczesną\, zamieszkałą w pięknym Hohenlohe. Zaczynała bardzo młodo i pracuje jako akwarelistka\, projektantka i ilustratorka we własnej firmie.\nProwadzi również warsztaty i wystawia swoje prace.\nPejzaże oraz malowanie postaci to ulubione tematy jej twórczości. Przemienia zwykłych ludzi w bohaterów swojej twórczości. Jej cykl „Ludzie w pracy” jest tego doskonałym przykładem.\nWrażliwość\, precyzyjna technika\, talent i przede wszystkim silna wola są kluczem do jej sukcesu.\nWśród innych technik lub mediów jej ulubioną jest akwarela. Przyroda\, ludzie wokół niej\, przygody z podróży i warsztaty rysunkowe są dla niej źródłem inspiracji. \nJej credo: Nie trać czasu\, rysuj ekspresyjnie i bądź kreatywny! \nSocial media\nInstagram: bettina_draws \nO warsztacie \n“Jak szkicować przekonujące wnętrza” \n\nANALIZA kompozycja\, perspektywa\, kolorystyka\, cieniowanie\nTECHNIKA SZKICOWANIA kredkami\nTECHNIKA AKWARELOWA od jasnego do ciemnego\nTRIKI NA WYKOŃCZENIE\n\nUczymy się \n– szkicować przekonujące wnętrza \n– mieszać i nakładać akwarele na ciemne i jasne obszary \n– tworzyć tekstury oraz definiować światła i cienie \nMateriały \n\n3-4 różne kolory kredek Pablo (lub innych nie-akwarelowych)\npapier akwarelowy 300gsm w formacie A4 (może być szkicownik)\nakwarele\npędzel do akwareli + pojemnik z wodą\nkrzesełko lub mata do siedzenia\n\n\nBETTINA RUPPERT – OPIS ANG \nAbout the teacher\nBettina Ruppert is a German contemporary artist\, settled in beautiful Hohenlohe. She started very young and works as a watercolorist\, designer and illustrator in her own company. \nShe also teaches workshops and exhibits her artwork.\nLandscapes as well as painting people are favourite subjects in her art. She transforms ordinary people to protagonists of her work. Her series „People at Work” is a great example.\nSensibility\, accurate technique\, talent and last but not least a strong will are key to her success.\nAmong other techniques or media\, watercolour is her favourite. Nature and people around her\, travel sketching adventures and workshops are her source of inspiraton.\n\nHer credo: Don’t waste your time\, draw expressively and get creative! \nSocial media\nInstagram: bettina_draws \nAbout the workshop \n“Learn how to sketch convincing roomportraits”\n1. ANALYSIS composition\, perspective\, colours\, shadowing \n\nSKETCHING TECHNIQUE with coloured pencils\nWATERCOLOUR TECHNIQUE from light to dark\nFINISHING TRICKS\n\nWe learn to \n– sketch convincing roomportraits \n– mix and apply watercolours for shadows and light areas \n– create textures and define lights and darks\n\nMaterials \n\n3-4 different colours of Pablo coloured pencils (or other non-soluble)\n300 gsm watercolour paper\, size A4 is sufficient (and/or watercolour sketchbook)\nwatercolours\nwatercolour brush + water\na stool or a sitting mat
URL:https://sok.com.pl/wydarzenie/festiwal-miejskiego-szkicowania-bettina-ruppert-warsztaty/
LOCATION:Muzeum Dawnego Kupiectwa\, Rynek 37\, Świdnica\, dolnośląskie\, 58-100\, Polska
CATEGORIES:Warsztaty
ATTACH;FMTTYPE=image/png:https://sok.com.pl/wp-content/uploads/2023/06/Bettina_warsztaty.png
END:VEVENT
END:VCALENDAR