BEGIN:VCALENDAR
VERSION:2.0
PRODID:-//Świdnicki Ośrodek Kultury - ECPv5.5.0.1//NONSGML v1.0//EN
CALSCALE:GREGORIAN
METHOD:PUBLISH
X-WR-CALNAME:Świdnicki Ośrodek Kultury
X-ORIGINAL-URL:https://sok.com.pl
X-WR-CALDESC:Wydarzenia na Świdnicki Ośrodek Kultury
BEGIN:VTIMEZONE
TZID:Europe/Warsaw
BEGIN:DAYLIGHT
TZOFFSETFROM:+0100
TZOFFSETTO:+0200
TZNAME:CEST
DTSTART:20220327T010000
END:DAYLIGHT
BEGIN:STANDARD
TZOFFSETFROM:+0200
TZOFFSETTO:+0100
TZNAME:CET
DTSTART:20221030T010000
END:STANDARD
END:VTIMEZONE
BEGIN:VEVENT
DTSTART;TZID=Europe/Warsaw:20220626T170000
DTEND;TZID=Europe/Warsaw:20220626T183000
DTSTAMP:20260421T045727
CREATED:20220607T112444Z
LAST-MODIFIED:20220607T112444Z
UID:31815-1656262800-1656268200@sok.com.pl
SUMMARY:DZIKI KONCERT #2
DESCRIPTION:KUP BILET \nDługo wyczekiwany kolejny DZIKI koncert świdnickiego Dzikiego Chóru pod dyrekcją Katarzyny Szymko-Kawalec. W repertuarze jak zwykle mieszanka najprzeróżniejszych stylów i gatunków – pieśni afrykańskie\, muzyka gospel\, a także autorskie kompozycje pisane specjalnie dla dzikiego zespołu przez Katarzynę Szymko-Kawalec. Nie zabraknie również instrumentalnych niespodzianek. \n„Dziki Chór” to świdnicki chór mieszany – zespół założony w maju 2018 roku w Świdnickim Ośrodku Kultury przez Katarzynę Szymko-Kawalec.\nPoprzedni koncert chóru odbył się w 2019 roku\, później niestety zatrzymała zespół pandemia. Dziki Koncert #2 to wielki powrót Dzikiego Chóru do koncertowania\, nowa energia\, długo ćwiczony nowy repertuar i jeszcze większy skład. \nSłownikowa definicja słowa „dziki” to niezgodny z ogólnie przyjętymi normami\, niestandardowy\, nieuchwytny\, nieoswojony\, energiczny i żywiołowy i wzrastający w naturalnym środowisku. W przypadku Dzikiego Chóru chodzi przede wszystkim o energetyczność\, radość\, wyjątkowość i wymykanie się schematom. Tacy właśnie są członkowie tego zespołu\, szaleni\, a przede wszystkim radośni. Tym właśnie szaleństwem i radością Dziki Chór będzie podzieli się z Państwem na swoim koncercie.
URL:https://sok.com.pl/wydarzenie/dziki-koncert-2/
LOCATION:Świdnicki Ośrodek Kultury\, Rynek 43\, Świdnica\, Dolnośląskie\, 58-100\, Polska
CATEGORIES:Koncerty
ATTACH;FMTTYPE=image/jpeg:https://sok.com.pl/wp-content/uploads/2022/06/plakatA2_koncert2022.jpg
ORGANIZER;CN="%C5%9Awidnicki%20O%C5%9Brodek%20Kultury":MAILTO:sok@sok.com.pl
END:VEVENT
END:VCALENDAR