BEGIN:VCALENDAR
VERSION:2.0
PRODID:-//Świdnicki Ośrodek Kultury - ECPv5.5.0.1//NONSGML v1.0//EN
CALSCALE:GREGORIAN
METHOD:PUBLISH
X-WR-CALNAME:Świdnicki Ośrodek Kultury
X-ORIGINAL-URL:https://sok.com.pl
X-WR-CALDESC:Wydarzenia na Świdnicki Ośrodek Kultury
BEGIN:VTIMEZONE
TZID:Europe/Warsaw
BEGIN:DAYLIGHT
TZOFFSETFROM:+0100
TZOFFSETTO:+0200
TZNAME:CEST
DTSTART:20250330T010000
END:DAYLIGHT
BEGIN:STANDARD
TZOFFSETFROM:+0200
TZOFFSETTO:+0100
TZNAME:CET
DTSTART:20251026T010000
END:STANDARD
END:VTIMEZONE
BEGIN:VEVENT
DTSTART;TZID=Europe/Warsaw:20250507T120000
DTEND;TZID=Europe/Warsaw:20250507T140000
DTSTAMP:20260422T024332
CREATED:20250429T131415Z
LAST-MODIFIED:20250429T131415Z
UID:40683-1746619200-1746626400@sok.com.pl
SUMMARY:DZIEŃ GODNOŚCI OSÓB Z NIEPEŁNOSPRAWNOŚCIĄ INTELEKTUALNĄ
DESCRIPTION:Serdecznie zapraszamy mieszkańców Świdnicy i okolic na wyjątkowe wydarzenie – Dzień Godności Osób z Niepełnosprawnością Intelektualną. To uroczystość\, która ma na celu zwrócenie uwagi na potrzeby\, prawa i niezwykłe możliwości osób z niepełnosprawnością intelektualną\, a także promowanie ich aktywnego udziału w życiu społecznym. \nNiepełnosprawność intelektualna wciąż bywa tematem pełnym stereotypów i niewiedzy. Tymczasem osoby z niepełnosprawnością intelektualną mają swoje marzenia\, talenty i ogromny potencjał\, który warto wspierać. Dzień Godności to okazja\, aby: \n\n\nzwiększyć świadomość społeczeństwa na temat ich codziennych wyzwań\, \n\n\npokazać ich osiągnięcia w różnych dziedzinach życia\, \n\n\nzachęcić do integracji i współpracy na rzecz równych szans. \n\n\nProgram wydarzenia \nW trakcie wydarzenia odbędą się: \n\n\nwystępy artystyczne osób z niepełnosprawnością intelektualną\, \n\n\npokazy ich twórczości (prace plastyczne\, rękodzieło)\, \n\n\nspotkania i rozmowy z uczestnikami\, ich rodzinami oraz specjalistami\, \n\n\nkampania informacyjna o prawach i potrzebach osób z niepełnosprawnością intelektualną. \n\n\nTylko dzięki wspólnemu zaangażowaniu możemy budować społeczeństwo\, w którym każdy – niezależnie od swoich możliwości – ma prawo do godnego życia\, edukacji\, pracy i rozwoju. Zachęcamy do udziału wszystkich\, którym bliska jest idea równości i solidarności. \nPrzyjdź\, poznaj\, wesprzyj!\nWspólnie pokażmy\, że Świdnica to miasto otwarte i przyjazne dla wszystkich.
URL:https://sok.com.pl/wydarzenie/dzien-godnosci-osob-z-niepelnosprawnoscia-intelektualna-2/
LOCATION:Rynek\, Rynek\, Świdnica\, Dolnośląskie\, 58-100
CATEGORIES:Inne
ATTACH;FMTTYPE=image/png:https://sok.com.pl/wp-content/uploads/2025/04/Plakat-Dzien-Godnosci-2025.png
END:VEVENT
END:VCALENDAR