BEGIN:VCALENDAR
VERSION:2.0
PRODID:-//Świdnicki Ośrodek Kultury - ECPv5.5.0.1//NONSGML v1.0//EN
CALSCALE:GREGORIAN
METHOD:PUBLISH
X-WR-CALNAME:Świdnicki Ośrodek Kultury
X-ORIGINAL-URL:https://sok.com.pl
X-WR-CALDESC:Wydarzenia na Świdnicki Ośrodek Kultury
BEGIN:VTIMEZONE
TZID:Europe/Warsaw
BEGIN:DAYLIGHT
TZOFFSETFROM:+0100
TZOFFSETTO:+0200
TZNAME:CEST
DTSTART:20240331T010000
END:DAYLIGHT
BEGIN:STANDARD
TZOFFSETFROM:+0200
TZOFFSETTO:+0100
TZNAME:CET
DTSTART:20241027T010000
END:STANDARD
END:VTIMEZONE
BEGIN:VEVENT
DTSTART;VALUE=DATE:20240609
DTEND;VALUE=DATE:20240610
DTSTAMP:20260423T192254
CREATED:20240511T094724Z
LAST-MODIFIED:20240604T114129Z
UID:36768-1717891200-1717977599@sok.com.pl
SUMMARY:DNI ŚWIDNICY | DZIEŃ 3
DESCRIPTION:09.06.2024 (niedziela)\n\n12.00-15.00 – Piknik Sportowy\n***\n17.00 – Dżentelmens\n18.00 – Long & Junior \nwstęp na koncerty 5 zł\ndzieci do lat 6 — wstęp wolny\n \nwesołe miasteczko\, stoiska handlowe i gastronomiczne czynne od godz. 12:00 \nregulamin Dni Świdnicy \nW niedzielę 9 czerwca będzie można wziąć udział w Pikniku Sportowym z mnóstwem atrakcji dla całych rodzin. Wieczorem\, miłośnicy muzyki disco polo będą mieli okazję bawić się przy dźwiękach zespołów Dżentelmens i Long & Junior. \nDni Świdnicy to nie tylko festiwal muzyki\, ale także doskonała okazja do wspólnego świętowania\, integrowania się oraz spędzania czasu w radosnej atmosferze pełnej pozytywnych emocji i niezapomnianych przeżyć. To wyjątkowy moment\, kiedy mieszkańcy miasta i goście mogą razem cieszyć się przebywaniem na wolnym powietrzu\, artystycznymi występami i sportowymi emocjami. Przez trzy dni nasze miasto staje się centrum pozytywnej energii\, inspirując do odkrywania nowych pasji i jednocząc nas wszystkich w jednym wspólnym święcie.
URL:https://sok.com.pl/wydarzenie/dni-swidnicy-dzien-3/
LOCATION:OSiR\, ul. Śląska 35\, Świdnica\, Poland
CATEGORIES:Inne
ATTACH;FMTTYPE=image/jpeg:https://sok.com.pl/wp-content/uploads/2024/05/Dni_Swidnicy_9-06-2024a.jpg
END:VEVENT
END:VCALENDAR