BEGIN:VCALENDAR
VERSION:2.0
PRODID:-//Świdnicki Ośrodek Kultury - ECPv5.5.0.1//NONSGML v1.0//EN
CALSCALE:GREGORIAN
METHOD:PUBLISH
X-WR-CALNAME:Świdnicki Ośrodek Kultury
X-ORIGINAL-URL:https://sok.com.pl
X-WR-CALDESC:Wydarzenia na Świdnicki Ośrodek Kultury
BEGIN:VTIMEZONE
TZID:Europe/Warsaw
BEGIN:DAYLIGHT
TZOFFSETFROM:+0100
TZOFFSETTO:+0200
TZNAME:CEST
DTSTART:20250330T010000
END:DAYLIGHT
BEGIN:STANDARD
TZOFFSETFROM:+0200
TZOFFSETTO:+0100
TZNAME:CET
DTSTART:20251026T010000
END:STANDARD
END:VTIMEZONE
BEGIN:VEVENT
DTSTART;TZID=Europe/Warsaw:20250816T203000
DTEND;TZID=Europe/Warsaw:20250816T220000
DTSTAMP:20260424T095551
CREATED:20250624T104027Z
LAST-MODIFIED:20250625T114251Z
UID:40975-1755376200-1755381600@sok.com.pl
SUMMARY:DKF SPEKTRUM: EMILIA PÉREZ / w plenerze
DESCRIPTION:Musical\, thriller i dramat społeczny w jednym. Audiard\, znany z eksperymentowania z formą\, tym razem opowiada historię transkobiety\, która – uciekając od przeszłości meksykańskiego bossa kartelu – podejmuje próbę nowego życia jako Emilia. Tajemnica tożsamości staje się tutaj nie tylko punktem wyjścia fabularnym\, ale i uniwersalną opowieścią o przemianie\, marzeniu i odkupieniu. Film balansuje między kampową estetyką a powagą tematu\, zadając pytania o to\, jak daleko można zajść\, by odnaleźć siebie – i ile kosztuje porzucenie przeszłości. \n\nreżyseria: Jacques Audiard\nobsada: Karla Sofía Gascón\, Zoe Saldaña\, Selena Gomez\nczas trwania: 130 min.\nprodukcja: Francja 2024 \nFilm prezentujemy w cyklu DKF Spektrum: Szzzz… Tajemnica!  \nCzym jest tajemnica? Czy to ukryta prawda\, niewygodna wiedza\, zagadka do rozwiązania\, a może coś\, co wymyka się jednoznacznemu poznaniu? W tym cyklu przyglądamy się trzem filmom\, które podejmują temat tajemnicy w zupełnie odmienny sposób – operując innym językiem formalnym\, narracyjnym i emocjonalnym. Każdy z nich rzuca widza w wir nieoczywistych relacji\, ukrytych tożsamości i moralnych dylematów. \nWspólnym mianownikiem wszystkich trzech filmów jest nieuchwytność prawdy. Tajemnica nie zostaje tu rozwiązana w klasyczny sposób – raczej ewoluuje\, pogłębia się\, zostawia nas z pytaniami\, które być może powinny pozostać bez odpowiedzi. To właśnie w tej niepewności kryje się największa siła kina – w jego zdolności do zadawania trudnych pytań i zmuszania do refleksji.\nZapraszamy do wspólnego odkrywania tego\, co ukryte. \n 
URL:https://sok.com.pl/wydarzenie/dkf-spektrum-emilia-perez-w-plenerze/
LOCATION:Rynek\, Rynek\, Świdnica\, Dolnośląskie\, 58-100
ATTACH;FMTTYPE=image/jpeg:https://sok.com.pl/wp-content/uploads/2025/06/EmiliaPerez-plakat-1.jpg
END:VEVENT
END:VCALENDAR