BEGIN:VCALENDAR
VERSION:2.0
PRODID:-//Świdnicki Ośrodek Kultury - ECPv5.5.0.1//NONSGML v1.0//EN
CALSCALE:GREGORIAN
METHOD:PUBLISH
X-WR-CALNAME:Świdnicki Ośrodek Kultury
X-ORIGINAL-URL:https://sok.com.pl
X-WR-CALDESC:Wydarzenia na Świdnicki Ośrodek Kultury
BEGIN:VTIMEZONE
TZID:Europe/Warsaw
BEGIN:DAYLIGHT
TZOFFSETFROM:+0100
TZOFFSETTO:+0200
TZNAME:CEST
DTSTART:20240331T010000
END:DAYLIGHT
BEGIN:STANDARD
TZOFFSETFROM:+0200
TZOFFSETTO:+0100
TZNAME:CET
DTSTART:20241027T010000
END:STANDARD
END:VTIMEZONE
BEGIN:VEVENT
DTSTART;TZID=Europe/Warsaw:20240803T203000
DTEND;TZID=Europe/Warsaw:20240803T223000
DTSTAMP:20260421T043745
CREATED:20240626T103748Z
LAST-MODIFIED:20240626T105311Z
UID:37032-1722717000-1722724200@sok.com.pl
SUMMARY:DKF SPEKTRUM: BEZMIAR
DESCRIPTION:Wyjątkowo osobista filmowa podróż w głąb siebie z olśniewającą rolą Penélope Cruz. \nRzym\, lata 70. Rodzina Borghetti właśnie wprowadziła się do nowego mieszkania z widokiem na zachwycającą panoramę. Pozornie sielankowe życie Clary i jej męża podszyte jest powszednimi smutkami\, poczuciem wyobcowania i samotności. Nie brakuje im pieniędzy\, ale nie są już zakochani w sobie i nie potrafią się rozstać. Pełna młodzieńczej energii i figlarności Clara nie pasuje do świata sztywnych dorosłych\, nudzi się w ich towarzystwie\, zwykłe śniadanie zamienia w muzyczne show\, a w czasie rodzinnych uroczystości woli spędzać czas z dzieciakami pod stołem. \nNajstarsza córka Adriana dostrzega opresyjność ojca\, jego liczne zdrady oraz samotność\, która ogarnia jej matkę. Dzieciom brakuje uwagi ojca\, Clarze miłości i zrozumienia męża. Napięcie w relacjach rodziny sięga zenitu i prowadzi do krytycznego momentu\, gdy Adriana\, korzystając z tego\, że nikt w sąsiedztwie jej nie zna\, zaczyna udawać przed innymi dziećmi\, że jest chłopcem. \nreżyseria: Emanuele Crialese\nobsada: Penélope Cruz\, Vincenzo Amato\, Luana Giuliani\nczas trwania: 94′\nprodukcja: Włochy/Francja 2022 \n— \nDKF Spektrum | No weź! Bądź dzieckiem \nkolejny seans: \n07.09 godz. 20:00 – Cicha dziewczyna\, reż. Colm Bairead \nOstatnim filmem serii będzie „Cicha dziewczyna”. Po wakacyjnej eksplozji kolorów\, za sprawą Colm Bairead\, przeniesiemy się na irlandzką prowincję\, gdzie dowiemy się\, iż słowa\, nawet tak skąpo wypowiadane\, mają wielką moc przemiany. Film otrzymał Europejską Nagrodę Filmową i został okrzyknięty najlepszym obrazem z Irlandii ostatniej dekady. \nseanse plenerowe na świdnickim rynku | wstęp wolny
URL:https://sok.com.pl/wydarzenie/dkf-spektrum-bezmiar/
LOCATION:Rynek\, Rynek\, Świdnica\, Dolnośląskie\, 58-100
CATEGORIES:Film
ATTACH;FMTTYPE=image/jpeg:https://sok.com.pl/wp-content/uploads/2024/06/Bezmiar.jpg
ORGANIZER;CN="%C5%9Awidnicki%20O%C5%9Brodek%20Kultury":MAILTO:sok@sok.com.pl
END:VEVENT
END:VCALENDAR