BEGIN:VCALENDAR
VERSION:2.0
PRODID:-//Świdnicki Ośrodek Kultury - ECPv5.5.0.1//NONSGML v1.0//EN
CALSCALE:GREGORIAN
METHOD:PUBLISH
X-WR-CALNAME:Świdnicki Ośrodek Kultury
X-ORIGINAL-URL:https://sok.com.pl
X-WR-CALDESC:Wydarzenia na Świdnicki Ośrodek Kultury
BEGIN:VTIMEZONE
TZID:Europe/Warsaw
BEGIN:DAYLIGHT
TZOFFSETFROM:+0100
TZOFFSETTO:+0200
TZNAME:CEST
DTSTART:20250330T010000
END:DAYLIGHT
BEGIN:STANDARD
TZOFFSETFROM:+0200
TZOFFSETTO:+0100
TZNAME:CET
DTSTART:20251026T010000
END:STANDARD
END:VTIMEZONE
BEGIN:VEVENT
DTSTART;TZID=Europe/Warsaw:20250425T180000
DTEND;TZID=Europe/Warsaw:20250425T200000
DTSTAMP:20260421T151028
CREATED:20250224T083752Z
LAST-MODIFIED:20250224T132452Z
UID:39832-1745604000-1745611200@sok.com.pl
SUMMARY:ARíS – RYTMY ROKU [koncert taneczny]
DESCRIPTION:KUP BILET \nARíS – RYTMY ROKU \nMUZYKA – TANIEC – OBRAZ – TRADYCJE \nIRLANDII I SZKOCJI \nPonadczasowa\, wielowymiarowa opowieść\, która czaruje publiczność\ni przenosi ją do Irlandii i do Szkocji z ich tradycjami\, tańcem i muzyką. \nNa okoliczność święta Beltaine 2025 zapraszamy do magicznego świata Celtów\, dla których natura i jej coroczna odnowa wyznacza rytm obrzędom. Delikatne choreografie tańczone w baletkach\, wraz z energetycznym stepem irlandzkim harmonijnie przeplatają się z dźwiękami fletów\, skrzypiec\, gitar\ni perkusji. Widowisko wzbogacają ciekawostki o celtyckich wierzeniach i tradycjach. \nArís [wymowa z akcentem na drugą sylabę: E-risz] oznacza w języku irlandzkim od początku\, od nowa – to nawiązanie do uniwersalnego cyklu pór roku\n– niepowtarzalne spotkanie z celtycką kulturą prowadzone słowem\, obrazem\, muzyką i ruchem. I tak jak każdy rok jest inny\, tak każdy wieczór jest unikalny\ni tworzony specjalnie dla wyjątkowej publiczności Świdnicy i jej pięknych okolic. \nNa wydarzenie zapraszają: zespół muzyczny Jig Reel Maniacs oraz grupa tańca irlandzkiego Tuatha & Ellorien\, formacje od osiemnastu lat współtworzące projekty sceniczne Eachtra – Celtycka Podróż oraz Celtic fusion and dance. \nJig Reel Maniacs (https://jrm-jig-reel-maniacs.pl) trzydziestopięcioletnia formacja inspirująca się muzyką irlandzką i szkocką\, łącząca tradycyjne celtyckie nuty z nowoczesnymi aranżacjami nawiązującymi do różnych trendów muzyki świata. Ich brzmienie w dwóch kluczowych słowach: Celtic fusion. \nTuatha & Ellorien (https://irlandzki.com) to zespół tańca irlandzkiego z Wrocławia działający od dziewiętnastu lat. Choreografie Ellorien tworzone były przy współpracy z tancerzami spektakli tanecznych Riverdance: Lord of the Dance oraz Feet of Flames. W składzie tańczą mistrzowie Europy w tańcu irlandzkim.
URL:https://sok.com.pl/wydarzenie/aris-rytmy-roku-koncert-taneczny/
LOCATION:Aula I Liceum Ogólnokształcącego w Świdnicy\, Pionierów 30\, Świdnica\, Dolnośląskie\, 58-100\, Polska
CATEGORIES:Teatr
ATTACH;FMTTYPE=image/jpeg:https://sok.com.pl/wp-content/uploads/2025/02/B2_Aris-scaled.jpg
END:VEVENT
END:VCALENDAR