BEGIN:VCALENDAR
VERSION:2.0
PRODID:-//Świdnicki Ośrodek Kultury - ECPv5.5.0.1//NONSGML v1.0//EN
CALSCALE:GREGORIAN
METHOD:PUBLISH
X-WR-CALNAME:Świdnicki Ośrodek Kultury
X-ORIGINAL-URL:https://sok.com.pl
X-WR-CALDESC:Wydarzenia na Świdnicki Ośrodek Kultury
BEGIN:VTIMEZONE
TZID:Europe/Warsaw
BEGIN:DAYLIGHT
TZOFFSETFROM:+0100
TZOFFSETTO:+0200
TZNAME:CEST
DTSTART:20230326T010000
END:DAYLIGHT
BEGIN:STANDARD
TZOFFSETFROM:+0200
TZOFFSETTO:+0100
TZNAME:CET
DTSTART:20231029T010000
END:STANDARD
END:VTIMEZONE
BEGIN:VEVENT
DTSTART;TZID=Europe/Warsaw:20231201T180000
DTEND;TZID=Europe/Warsaw:20231201T193000
DTSTAMP:20260424T132022
CREATED:20231109T141255Z
LAST-MODIFIED:20231109T143125Z
UID:35301-1701453600-1701459000@sok.com.pl
SUMMARY:ALCHEMIA TEATRALNA: SPOTKANIE Z DOMINIKĄ OSTAŁOWSKĄ
DESCRIPTION:KUP BILET \nbilety: 5 zł \nZapraszamy na spotkanie ze znakomitą aktorką Dominiką Ostałowską! Znana jest z wielu ról teatralnych oraz występów w znaczących filmach. Była związana z warszawskimi teatrami Ateneum 1994–2000) i Powszechnym (2000–2012)\, obecnie występuje w Teatrze Studio. Za rolę Marianny w Opowieściach lasku wiedeńskiego Ödöna von Horvátha w reżyserii Agnieszki Glińskiej otrzymała Nagrodę im. Aleksandra Zelwerowicza miesięcznika „Teatr” za sezon 1998/1999. Zagrała m.in. w Garderobianym Krzysztofa Zaleskiego (1997)\, Kobiecie z morza Roberta Wilsona (2005)\, wielokrotnie występowała w spektaklach Anny Augustynowicz oraz Agnieszki Glińskiej. Stworzyła przejmującą kreację Izabeli w Miarce za miarkę Augustynowicz (2007)\, za którą została nagrodzona na festiwalu KONTAKT i Ogólnopolskim Festiwalu Sztuk Przyjemnych i Nieprzyjemnych. Zagrała w wielu filmach\, m.in. w Łagodnej Mariusza Trelińskiego\, Historiach miłosnych Jerzego Stuhra\, Wojaczku Lecha Majewskiego oraz Daleko od okna Jana Jakuba Kolskiego. Wystąpiła również w kilkunastu spektaklach Teatru Telewizji oraz w licznych słuchowiskach radiowych\, za które była kilkakrotnie nagradzana. Spotkanie z artystką poprowadzi Mariola Mackiewicz.
URL:https://sok.com.pl/wydarzenie/alchemia-teatralna-spotkanie-z-dominika-ostalowska/
LOCATION:Świdnicki Ośrodek Kultury\, Rynek 43\, Świdnica\, Dolnośląskie\, 58-100\, Polska
CATEGORIES:Teatr
ATTACH;FMTTYPE=image/jpeg:https://sok.com.pl/wp-content/uploads/2023/11/B2_Ostalowska.jpg
ORGANIZER;CN="%C5%9Awidnicki%20O%C5%9Brodek%20Kultury":MAILTO:sok@sok.com.pl
END:VEVENT
END:VCALENDAR