BEGIN:VCALENDAR
VERSION:2.0
PRODID:-//Świdnicki Ośrodek Kultury - ECPv5.5.0.1//NONSGML v1.0//EN
CALSCALE:GREGORIAN
METHOD:PUBLISH
X-WR-CALNAME:Świdnicki Ośrodek Kultury
X-ORIGINAL-URL:https://sok.com.pl
X-WR-CALDESC:Wydarzenia na Świdnicki Ośrodek Kultury
BEGIN:VTIMEZONE
TZID:Europe/Warsaw
BEGIN:DAYLIGHT
TZOFFSETFROM:+0100
TZOFFSETTO:+0200
TZNAME:CEST
DTSTART:20200329T010000
END:DAYLIGHT
BEGIN:STANDARD
TZOFFSETFROM:+0200
TZOFFSETTO:+0100
TZNAME:CET
DTSTART:20201025T010000
END:STANDARD
END:VTIMEZONE
BEGIN:VEVENT
DTSTART;TZID=Europe/Warsaw:20200118T180000
DTEND;TZID=Europe/Warsaw:20200118T200000
DTSTAMP:20260421T110039
CREATED:20200107T074336Z
LAST-MODIFIED:20210118T120250Z
UID:23830-1579370400-1579377600@sok.com.pl
SUMMARY:ALCHEMIA TEATRALNA: "RUSCY"
DESCRIPTION:Alchemia teatralna zaprasza na nowy pokaz — czytanie nowego dramatu Andrzeja Błażewicza\, o którym autor pisze: \n„Ostatnie wagony – już rosyjskiej\, a nie radzieckiej armii  – wyjechały ze Świdnicy w 1991 roku\, czyli dokładnie pięć lat przed moimi narodzinami. O obecności Armii Czerwonej w naszym mieście dowiadywałem się w przypadkowych sytuacjach\, wspominano o jakichś dawnych koszarach\, liceum do którego chodziłem okazało się być dawnym domem oficera\, czasem ktoś napomykał o smaku pysznych cukierków. Po szybkiej kwerendzie stwierdziłem\, że nie ma zbyt wielu materiałów o obecności wojsk radzieckich w Świdnicy. Zupełnie tak jakby ponad czterdzieści lat wspólnej koegzystencji wyparowało\, zostało wymazane z lokalnej tożsamości. \nDramat\, który napisałem jest próbą przywrócenia tej pamięci i rozmowy o tożsamości miejskiej w perspektywie obecności w nim Armii Czerwonej. Monologi\, które są głównym budulcem tekstu stanowią pokłosie szeregu wywiadów\, które przeprowadziłem z mieszkańcami Świdnicy w 2019 roku. Serdecznie zapraszam państwa na spotkanie z nieco zapomnianą historią naszego miasta”. \nProjekt Alchemia teatralna dofinansowano ze środków Ministra Kultury i Dziedzictwa Narodowego pochodzących z Funduszu Promocji Kultury.
URL:https://sok.com.pl/wydarzenie/alchemia-teatralna-ruscy/
LOCATION:Galeria Fotografii\, Rynek 44\, Świdnica\, Dolnośląskie\, 58-100\, Polska
CATEGORIES:Teatr
ATTACH;FMTTYPE=image/jpeg:https://sok.com.pl/wp-content/uploads/2020/01/81242821_3796419300371990_2672472133543657472_n.jpg
ORGANIZER;CN="%C5%9Awidnicki%20O%C5%9Brodek%20Kultury":MAILTO:sok@sok.com.pl
END:VEVENT
END:VCALENDAR