BEGIN:VCALENDAR
VERSION:2.0
PRODID:-//Świdnicki Ośrodek Kultury - ECPv5.5.0.1//NONSGML v1.0//EN
CALSCALE:GREGORIAN
METHOD:PUBLISH
X-WR-CALNAME:Świdnicki Ośrodek Kultury
X-ORIGINAL-URL:https://sok.com.pl
X-WR-CALDESC:Wydarzenia na Świdnicki Ośrodek Kultury
BEGIN:VTIMEZONE
TZID:Europe/Warsaw
BEGIN:DAYLIGHT
TZOFFSETFROM:+0100
TZOFFSETTO:+0200
TZNAME:CEST
DTSTART:20220327T010000
END:DAYLIGHT
BEGIN:STANDARD
TZOFFSETFROM:+0200
TZOFFSETTO:+0100
TZNAME:CET
DTSTART:20221030T010000
END:STANDARD
END:VTIMEZONE
BEGIN:VEVENT
DTSTART;TZID=Europe/Warsaw:20220612T180000
DTEND;TZID=Europe/Warsaw:20220612T190000
DTSTAMP:20260421T071415
CREATED:20220608T062429Z
LAST-MODIFIED:20220608T062620Z
UID:31819-1655056800-1655060400@sok.com.pl
SUMMARY:ALCHEMIA TEATRALNA: „na pewno (nie)INSTRUKCJA obsługi betonu” [pokaz warsztatowy]
DESCRIPTION:Alchemia teatralna serdecznie zaprasza na nowy pokaz „na pewno (nie)INSTRUKCJA obsługi betonu” przygotowany na podstawie sztuki Karoliny Warzechy. Dramat ten został nagrodzony w organizowanym przez Świdnicki Ośrodek Kultury Ogólnopolskim Konkursie Sztuka Teatralna w 2020 roku. Pokaz przygotowuje grupa młodzieżowa Alchemii z instruktorem Andrzejem Błażewiczem. \n…W dalekiej\, daaalekiej przyszłości. Za sklejkowymi ścianami\, za metalowymi stelażami\, za żelbetonowymi górami będzie betonowa Ziemia. Betonowy świat z betonowymi ludźmi o betonowych umysłach. Betonowe mieszkalne bloki betonu będą się trzymały dzięki metalowym rusztowaniom. W blokach mieszkać będą betonowi ludzie o betonowych umysłach każdy będzie miał cegłopsa albo cegłokota\, czasami kostkobrukowopapużkę. Betonowo nieśmiertelne rodziny mieszkające w blokach z betonu będą miały walec lub koparkę Mecalac 12MTX\, żeby móc jeździć do pracy lub na zakupy do Betonki. Ważnym punktem\, który powinien odwiedzić każdy mieszkaniec betonowej Ziemi to Muzeum Betonu i Konstrukcji Betonowych znajdujące się w stolicy — Betonowozowie. W Muzeum Betonu i Konstrukcji Betonowych najważniejszym eksponatem będzie Ostatni Żywy Człowiek ze skóry i kości zamknięty w niespotykanym już urządzeniu — Wielkim Szklanym Słoiku.. \n— fragment sztuki \nSerdecznie zapraszamy w niedzielę 12 czerwca na godz. 18.00 do sali teatralnej Świdnickiego Ośrodka Kultury (Rynek 43)\, wstęp wolny. \nDofinansowano ze środków Ministra Kultury i Dziedzictwa Narodowego pochodzących z Funduszu Promocji Kultury
URL:https://sok.com.pl/wydarzenie/alchemia-teatralna-na-pewno-nieinstrukcja-obslugi-betonu-pokaz-warsztatowy/
LOCATION:Świdnicki Ośrodek Kultury\, Rynek 43\, Świdnica\, Dolnośląskie\, 58-100\, Polska
CATEGORIES:Teatr
ATTACH;FMTTYPE=image/jpeg:https://sok.com.pl/wp-content/uploads/2022/06/B2_BOB3-1088x1536-1.jpg
ORGANIZER;CN="%C5%9Awidnicki%20O%C5%9Brodek%20Kultury":MAILTO:sok@sok.com.pl
END:VEVENT
END:VCALENDAR