BEGIN:VCALENDAR
VERSION:2.0
PRODID:-//Świdnicki Ośrodek Kultury - ECPv5.5.0.1//NONSGML v1.0//EN
CALSCALE:GREGORIAN
METHOD:PUBLISH
X-WR-CALNAME:Świdnicki Ośrodek Kultury
X-ORIGINAL-URL:https://sok.com.pl
X-WR-CALDESC:Wydarzenia na Świdnicki Ośrodek Kultury
BEGIN:VTIMEZONE
TZID:Europe/Warsaw
BEGIN:DAYLIGHT
TZOFFSETFROM:+0100
TZOFFSETTO:+0200
TZNAME:CEST
DTSTART:20220327T010000
END:DAYLIGHT
BEGIN:STANDARD
TZOFFSETFROM:+0200
TZOFFSETTO:+0100
TZNAME:CET
DTSTART:20221030T010000
END:STANDARD
END:VTIMEZONE
BEGIN:VEVENT
DTSTART;TZID=Europe/Warsaw:20221012T190000
DTEND;TZID=Europe/Warsaw:20221012T210000
DTSTAMP:20260423T153130
CREATED:20220907T131344Z
LAST-MODIFIED:20221006T111416Z
UID:32425-1665601200-1665608400@sok.com.pl
SUMMARY:ADHD I INNE CUDOWNE ZJAWISKA [SPEKTAKL KOMEDIOWY]
DESCRIPTION:KUP BILET \n\n\n\nŚwidnicki Ośrodek Kultury zaprasza na spektakl komediowy ADHD i inne cudowne zjawiska \n\n\n\n12.10.2022\, godz. 19.00\nsala teatralna Świdnickiego Ośrodka Kultury\nbilety 60 zł\,  bilety.sok.com.pl \n\ntekst i reżyseria: Joanna Szczepkowska\nObsada: Joanna Szczepkowska\, Anna Jarosik \n\n\nADHD i inne cudowne zjawiska – wykład nieprzewidywalny to artystyczne spojrzenie na tzw. Deficyt Uwagi. Joanna Szczepkowska oprócz aktorstwa i literatury zajmuje się problem ADHD u dorosłych: To zjawisko jednocześnie zabawne\, dramatyczne\, inspirujące i destrukcyjne\, a przede wszystkim malownicze\, dlatego scena jest dobrym miejscem na próbę zrozumienia tego zespołu. \n\n\nChciałam uświadomić ludziom\, że istnieje zjawisko\, które daje klucz do zrozumienia wielu mechanizmów naszych zachowań. To tym istotniejsze\, że lekarze nadal są na ogół sceptyczni wobec ADHD osób dorosłych. Dlatego bardzo zależało mi na wiarygodności tego tekstu. W jednej recenzji ze spektaklu znalazłam określenie\, że to improwizacja\, happening. Nic bardziej błędnego\, tekst jest na scenie mówiony\, co do litery\, a stworzenie wrażenia improwizacji jest wyzwaniem artystycznym spektaklu.  Jak mówi autorka\, wielu widzów odnajduje tu „trochę siebie” niezależnie od tego czy uważają się za ADHD – owców czy nie. Wielu tez wychodzi z tego przedstawienia widząc inaczej swoje cechy i wady najbliższych. Przede wszystkim jednak spektakl jest dobra zabawą. \n\n\n\n\n 
URL:https://sok.com.pl/wydarzenie/adhd-i-inne-cudowne-zjawiska-spektakl-komediowy/
CATEGORIES:Teatr
ATTACH;FMTTYPE=image/jpeg:https://sok.com.pl/wp-content/uploads/2022/09/Zjawiska-1.jpg
ORGANIZER;CN="%C5%9Awidnicki%20O%C5%9Brodek%20Kultury":MAILTO:sok@sok.com.pl
END:VEVENT
END:VCALENDAR