BEGIN:VCALENDAR
VERSION:2.0
PRODID:-//Świdnicki Ośrodek Kultury - ECPv5.5.0.1//NONSGML v1.0//EN
CALSCALE:GREGORIAN
METHOD:PUBLISH
X-WR-CALNAME:Świdnicki Ośrodek Kultury
X-ORIGINAL-URL:https://sok.com.pl
X-WR-CALDESC:Wydarzenia na Świdnicki Ośrodek Kultury
BEGIN:VTIMEZONE
TZID:Europe/Warsaw
BEGIN:DAYLIGHT
TZOFFSETFROM:+0100
TZOFFSETTO:+0200
TZNAME:CEST
DTSTART:20200329T010000
END:DAYLIGHT
BEGIN:STANDARD
TZOFFSETFROM:+0200
TZOFFSETTO:+0100
TZNAME:CET
DTSTART:20201025T010000
END:STANDARD
END:VTIMEZONE
BEGIN:VEVENT
DTSTART;VALUE=DATE:20201002
DTEND;VALUE=DATE:20201005
DTSTAMP:20260421T030448
CREATED:20200911T104133Z
LAST-MODIFIED:20200914T082448Z
UID:26183-1601596800-1601855999@sok.com.pl
SUMMARY:33. DNI FOTOGRAFII — ŚWIDNICA 2020
DESCRIPTION:Świdnicki Ośrodek Kultury zaprasza na 33. Dni Fotografii \n2 – 4 października 2020 \nPatronat: Beata Moskal-Słaniewska – Prezydent Miasta Świdnicy \n2 października /piątek/ \ngodz. 18.00 Wernisaż pokonkursowej wystawy\n„XXVI MIĘDZYNARODOWY KONKURS FOTOGRAFII ZESTAW – ŚWIDNICA 2020” oraz wręczenie nagród\n/Miejska Biblioteka Publiczna\, ul. Franciszkańska 18/ \n3 października /sobota/ \ngodz. 10.00 Start „29. FOTOMARATONU ŚWIDNICKIEGO 2020”\n/Galeria Fotografii\, Rynek 44/ \ngodz. 17.00 Wernisaż wystawy STEFAN ARCZYŃSKI „Portrety z podróży”\n/Galeria Fotografii\, Rynek 44/ \ngodz. 18.00 Wernisaże wystaw:\nEWA ANDRZEJEWSKA I WOJCIECH ZAWADZKI „Miejsca”\n/Wieża Ratuszowa/\nZwiązek Polskich Artystów Fotografików OKRĘG DOLNOŚLĄSKI „Prezentacje”\nWystawa zbiorowa\n/Wieża Ratuszowa/\nPrezentacje autorskie:\nAGNIESZKA ANTOSIEWICZ-MAS „Tło pamięci”\nGRZEGORZ SAWA-BORYSŁAWSKI „Pocztówki z Czarnobyla”\n/Wieża Ratuszowa/ \ngodz. 22.00 Meta „29. FOTOMARATONU ŚWIDNICKIEGO 2020”\n/Galeria Fotografii\, Rynek 44/ \n4 października /niedziela/ \ngodz. 12.00 Wręczenie nagród „29. FOTOMARATONU ŚWIDNICKIEGO 2020”\n/Galeria Fotografii\, Rynek 44/\nPonadto: Wystawa plenerowa „29. FOTOMARATON ŚWIDNICKI 2020” \n  \n 
URL:https://sok.com.pl/wydarzenie/26183/
LOCATION:Świdnicki Ośrodek Kultury\, Rynek 43\, Świdnica\, Dolnośląskie\, 58-100\, Polska
CATEGORIES:Wystawa
ATTACH;FMTTYPE=image/jpeg:https://sok.com.pl/wp-content/uploads/2020/09/df2020_plakat_B1_2020-09-09-2.jpg
END:VEVENT
END:VCALENDAR