BEGIN:VCALENDAR
VERSION:2.0
PRODID:-//Świdnicki Ośrodek Kultury - ECPv5.5.0.1//NONSGML v1.0//EN
CALSCALE:GREGORIAN
METHOD:PUBLISH
X-WR-CALNAME:Świdnicki Ośrodek Kultury
X-ORIGINAL-URL:https://sok.com.pl
X-WR-CALDESC:Wydarzenia na Świdnicki Ośrodek Kultury
BEGIN:VTIMEZONE
TZID:Europe/Warsaw
BEGIN:DAYLIGHT
TZOFFSETFROM:+0100
TZOFFSETTO:+0200
TZNAME:CEST
DTSTART:20190331T010000
END:DAYLIGHT
BEGIN:STANDARD
TZOFFSETFROM:+0200
TZOFFSETTO:+0100
TZNAME:CET
DTSTART:20191027T010000
END:STANDARD
END:VTIMEZONE
BEGIN:VEVENT
DTSTART;TZID=Europe/Warsaw:20191122T180000
DTEND;TZID=Europe/Warsaw:20191122T190000
DTSTAMP:20260421T132736
CREATED:20191119T121433Z
LAST-MODIFIED:20191129T100645Z
UID:23232-1574445600-1574449200@sok.com.pl
SUMMARY:JAZZ WORLD PHOTO — WERNISAŻ WYSTAWY POKONKURSOWEJ
DESCRIPTION:Jazz World Photo to konkurs\, którego celem jest promocja fotografii jazzowej i jazzowej w kontekście pokrewnych gatunków\, takich jak blues\, funk\, muzyka światowa itp. Co roku zwycięzcy i jurorzy spotykają się podczas głównego koncertu na międzynarodowym festiwalu Jazzinec w Trutnovie w Czechach. W roku 2019 pierwsze miejsce przydało świdniczaninowi Mariuszowi Buczmie.\nO skali jego sukcesu świadczy\, że w szranki stanęło 354 fotografów z 43 krajów świata. Spośród ich propozycji jury wybrało 30 najlepszych zdjęć. Drugie miejsce zajął Chilijczyk  Pablo Reyes\, a trzecie Oleg Panov z Ukrainy.
URL:https://sok.com.pl/wydarzenie/23232/
LOCATION:Galeria Fotografii\, Rynek 44\, Świdnica\, Dolnośląskie\, 58-100\, Polska
CATEGORIES:Wystawa
ATTACH;FMTTYPE=image/jpeg:https://sok.com.pl/wp-content/uploads/2019/11/B2_Jazz_world.jpg
ORGANIZER;CN="%C5%9Awidnicki%20O%C5%9Brodek%20Kultury":MAILTO:sok@sok.com.pl
END:VEVENT
END:VCALENDAR